BEGIN:VCALENDAR
VERSION:2.0
PRODID:-//wp-events-plugin.com//7.2.3.1//EN
TZID:America/Denver
X-WR-TIMEZONE:America/Denver
BEGIN:VEVENT
UID:1011@denhac.org
DTSTART;TZID=America/Denver:20260401T080000
DTEND;TZID=America/Denver:20260401T100000
DTSTAMP:20260324T203157Z
URL:https://denhac.org/events/woodshop-authorization-a-17
SUMMARY:Woodshop Authorization "A"
DESCRIPTION:Bookings open 7 days prior to event.\n\nNew in September: With
  the addition of the band saw to the training-required list\, we're breaki
 ng up the "General Woodshop Authorization Class" into two classes "Woodsho
 p A" and "Woodshop B"\, and merging in bandsaw and drum sander trainings. 
 These classes cover different equipment and do not build on each other\, s
 o the order in which you take them does not matter. We hope this new forma
 t will make classes shorter and more digestible.\n\nThis training will aut
 horize you to use 3 major woodworking power tools. This training is mandat
 ory for all denhac members before you're allowed to use these tools. Regis
 ter for this training and complete your homework before the class by read
 ing the woodshop wiki page and all woodshop tool wiki pages. This class t
 akes ~3 hours depending on number of attendees and experience. This class 
 includes:\n\n 	Saw Stop table saw\n 	Powermatic jointer\n 	Dewalt planer\n
 \nThe router table will not be covered in this class\, and is now part of 
 Woodshop B.\n\nThis class is offered to denhac members only\, and at no ad
 ditional charge.
CATEGORIES:Equipment Training,Members Only
LOCATION:denhac - Woodshop\, 700 Kalamath St.\, Denver\, CO\, 80204\, Unite
 d States
X-APPLE-STRUCTURED-LOCATION;VALUE=URI;X-ADDRESS=700 Kalamath St.\, Denver\,
  CO\, 80204\, United States;X-APPLE-RADIUS=100;X-TITLE=denhac - Woodshop:g
 eo:0,0
END:VEVENT
BEGIN:VTIMEZONE
TZID:America/Denver
X-LIC-LOCATION:America/Denver
BEGIN:DAYLIGHT
DTSTART:20260308T030000
TZOFFSETFROM:-0700
TZOFFSETTO:-0600
TZNAME:MDT
END:DAYLIGHT
END:VTIMEZONE
END:VCALENDAR