BEGIN:VCALENDAR
VERSION:2.0
PRODID:-//wp-events-plugin.com//7.2.3.1//EN
TZID:America/Denver
X-WR-TIMEZONE:America/Denver
BEGIN:VEVENT
UID:1045@denhac.org
DTSTART;TZID=America/Denver:20260422T190000
DTEND;TZID=America/Denver:20260422T210000
DTSTAMP:20260416T170209Z
URL:https://denhac.org/events/tig-welder-authorization-class-22
SUMMARY:TIG Welder Authorization Class
DESCRIPTION:Metal Shop Safety Authorization Required\nCompleting and passin
 g this class will authorize you to operate the TIG welder in the metal sho
 p. We will discuss safe operation of the machine\, the welding process\, a
 nd what to look for in an ideal weld. It is required to take the metal sho
 p safety course prior to the TIG welding class. You must wear appropriate 
 clothing to the class. All clothing MUST be made from natural fibers. Clos
 ed-toe shoes\, preferably resistant to metal chips / slag. Optimal: boots 
 with long pants covering the tops. No loose clothing or accessories\, tie 
 up hair. Protect yourself from the UV light TIG produces! Recommended to w
 ear long sleeve shirts and use sunscreen on exposed skin. All other PPE wi
 ll be provided. This class is available to denhac members only\, and at no
  additional charge.
CATEGORIES:Equipment Training,Members Only
LOCATION:denhac - Metal Shop\, 700 Kalamath St.\, Denver\, CO\, 80204\, Uni
 ted States
X-APPLE-STRUCTURED-LOCATION;VALUE=URI;X-ADDRESS=700 Kalamath St.\, Denver\,
  CO\, 80204\, United States;X-APPLE-RADIUS=100;X-TITLE=denhac - Metal Shop
 :geo:0,0
END:VEVENT
BEGIN:VTIMEZONE
TZID:America/Denver
X-LIC-LOCATION:America/Denver
BEGIN:DAYLIGHT
DTSTART:20260308T030000
TZOFFSETFROM:-0700
TZOFFSETTO:-0600
TZNAME:MDT
END:DAYLIGHT
END:VTIMEZONE
END:VCALENDAR