BEGIN:VCALENDAR
VERSION:2.0
PRODID:-//wp-events-plugin.com//7.2.3.1//EN
TZID:America/Denver
X-WR-TIMEZONE:America/Denver
BEGIN:VEVENT
UID:941@denhac.org
DTSTART;TZID=America/Denver:20260211T190000
DTEND;TZID=America/Denver:20260211T220000
DTSTAMP:20260208T020829Z
URL:https://denhac.org/events/tig-welder-authorization-class-18
SUMMARY:TIG Welder Authorization Class
DESCRIPTION:Metal Shop Safety Authorization Required\n\nCompleting and pass
 ing this class will authorize you to operate the TIG welder in the metal s
 hop. We will discuss safe operation of the machine\, the welding process\,
  and what to look for in an ideal weld.\n\nIt is required to take the meta
 l shop safety course prior to the TIG welding class.\n\nYou must wear appr
 opriate clothing to the class. All clothing MUST be made from natural fibe
 rs. Closed-toe shoes\, preferably resistant to metal chips / slag. Optimal
 : boots with long pants covering the tops. No loose clothing or accessorie
 s\, tie up hair. Protect yourself from the UV light TIG produces! Recommen
 ded to wear long sleeve shirts and use sunscreen on exposed skin. All othe
 r PPE will be provided.\n\nThis class is available to denhac members only\
 , and at no additional charge.
CATEGORIES:Equipment Training,Members Only
LOCATION:denhac - Metal Shop\, 700 Kalamath St.\, Denver\, CO\, 80204\, Uni
 ted States
X-APPLE-STRUCTURED-LOCATION;VALUE=URI;X-ADDRESS=700 Kalamath St.\, Denver\,
  CO\, 80204\, United States;X-APPLE-RADIUS=100;X-TITLE=denhac - Metal Shop
 :geo:0,0
END:VEVENT
BEGIN:VTIMEZONE
TZID:America/Denver
X-LIC-LOCATION:America/Denver
BEGIN:STANDARD
DTSTART:20251102T010000
TZOFFSETFROM:-0600
TZOFFSETTO:-0700
TZNAME:MST
END:STANDARD
END:VTIMEZONE
END:VCALENDAR