BEGIN:VCALENDAR
VERSION:2.0
PRODID:-//wp-events-plugin.com//7.2.3.1//EN
TZID:America/Denver
X-WR-TIMEZONE:America/Denver
BEGIN:VEVENT
UID:522@denhac.org
DTSTART;TZID=America/Denver:20250912T170000
DTEND;TZID=America/Denver:20250912T210000
DTSTAMP:20250902T202146Z
URL:https://denhac.org/events/textiles-office-hours-2
SUMMARY:Textiles Office Hours
DESCRIPTION:\n\n\n\n\n\n\n\n\n\n\nIf you are hitting a stumbling block in y
 our project come to Sig Textile to have your problems solves. We’ll be a
 nswering your specific individual question and helping you resolve any pro
 ject. Please bring your projects in that you want help with. We’ll be he
 lping with anything from mending questions\, to fitting issues\, alterati
 ons\, pattern adjustments\, and much more.\n\n\n\n\n\n\n\n\n\n\n\n\n\n\n\n
CATEGORIES:Members Only,Office Hours
LOCATION:denhac - Textiles Area\, 700 Kalamath St.\, Denver\, CO\, 80204\, 
 United States
X-APPLE-STRUCTURED-LOCATION;VALUE=URI;X-ADDRESS=700 Kalamath St.\, Denver\,
  CO\, 80204\, United States;X-APPLE-RADIUS=100;X-TITLE=denhac - Textiles A
 rea:geo:0,0
END:VEVENT
BEGIN:VTIMEZONE
TZID:America/Denver
X-LIC-LOCATION:America/Denver
BEGIN:DAYLIGHT
DTSTART:20250309T030000
TZOFFSETFROM:-0700
TZOFFSETTO:-0600
TZNAME:MDT
END:DAYLIGHT
END:VTIMEZONE
END:VCALENDAR