BEGIN:VCALENDAR
VERSION:2.0
PRODID:-//wp-events-plugin.com//7.2.3.1//EN
TZID:America/Denver
X-WR-TIMEZONE:America/Denver
BEGIN:VEVENT
UID:1029@denhac.org
DTSTART;TZID=America/Denver:20260415T183000
DTEND;TZID=America/Denver:20260415T210000
DTSTAMP:20260328T183707Z
URL:https://denhac.org/events/sleeve-installation-garment-making-workshop
SUMMARY:Sleeve Installation - Garment Making Workshop
DESCRIPTION:The difference between a "homemade" garment and a "handmade" ma
 sterpiece is often in the sleeves. Join Mohr for a focused workshop on one
  of the most technical aspects of garment construction: the set-in sleeve.
 \n\nWhat You’ll Master\nIn this session\, we move beyond basic seams to 
 tackle the three-dimensional curves of the armscye (armhole). You will lea
 rn:\n\n\n 	\nEase &amp\; Alignment: How to manage the extra fabric in a sl
 eeve cap to ensure a smooth\, rounded shoulder without puckers.\n\n 	\nNot
 ch Matching: The secret to perfectly aligning your sleeve with the garment
  body every time.\n\n 	\nProfessional Seaming: Techniques for sewing curve
 s and finishing your internal seams for comfort and durability.\n\n\nSkill
 s needed: You should have a basic sewing foundation\, including the abilit
 y to measure\, cut\, and operate a home sewing machine with minimal superv
 ision.
LOCATION:denhac - Textiles Area\, 700 Kalamath St.\, Denver\, CO\, 80204\, 
 United States
X-APPLE-STRUCTURED-LOCATION;VALUE=URI;X-ADDRESS=700 Kalamath St.\, Denver\,
  CO\, 80204\, United States;X-APPLE-RADIUS=100;X-TITLE=denhac - Textiles A
 rea:geo:0,0
END:VEVENT
BEGIN:VTIMEZONE
TZID:America/Denver
X-LIC-LOCATION:America/Denver
BEGIN:DAYLIGHT
DTSTART:20260308T030000
TZOFFSETFROM:-0700
TZOFFSETTO:-0600
TZNAME:MDT
END:DAYLIGHT
END:VTIMEZONE
END:VCALENDAR