BEGIN:VCALENDAR
VERSION:2.0
PRODID:-//wp-events-plugin.com//7.2.3.1//EN
TZID:America/Denver
X-WR-TIMEZONE:America/Denver
BEGIN:VEVENT
UID:1046@denhac.org
DTSTART;TZID=America/Denver:20260426T103000
DTEND;TZID=America/Denver:20260426T123000
DTSTAMP:20260416T170749Z
URL:https://denhac.org/events/resin-printer-authorization-class
SUMMARY:Resin Printer Authorization Class
DESCRIPTION:Get authorized to use our resin printers. The resin printers ar
 e 3d printers that use a photosensitive resin and a UV screen (as opposed 
 to filament plastic and a hot nozzle on a gantry) to selectively cure laye
 rs at the bottom of the resin puddle\, effectively summoning your part fro
 m a pool of fluid.\n\nYou must bring your own respirator.\n\nThis class is
  for members only. For more details\, see the wiki: https://denhac.org/wik
 i/resin-printing-process
CATEGORIES:Equipment Training,Members Only
LOCATION:denhac - Resin Tent\, 700 Kalamath St\, Denver\, CO\, 80204\, Unit
 ed States
X-APPLE-STRUCTURED-LOCATION;VALUE=URI;X-ADDRESS=700 Kalamath St\, Denver\, 
 CO\, 80204\, United States;X-APPLE-RADIUS=100;X-TITLE=denhac - Resin Tent:
 geo:0,0
END:VEVENT
BEGIN:VTIMEZONE
TZID:America/Denver
X-LIC-LOCATION:America/Denver
BEGIN:DAYLIGHT
DTSTART:20260308T030000
TZOFFSETFROM:-0700
TZOFFSETTO:-0600
TZNAME:MDT
END:DAYLIGHT
END:VTIMEZONE
END:VCALENDAR