BEGIN:VCALENDAR
VERSION:2.0
PRODID:-//wp-events-plugin.com//7.2.3.1//EN
TZID:America/Denver
X-WR-TIMEZONE:America/Denver
BEGIN:VEVENT
UID:400@denhac.org
DTSTART;TZID=America/Denver:20250623T190000
DTEND;TZID=America/Denver:20250623T210000
DTSTAMP:20250529T151901Z
URL:https://denhac.org/events/pen-turning-demo
SUMMARY:Pen Turning Demo
DESCRIPTION:A wood lathe authorization is required for each attendee. Do no
 t sign up for this class if you haven't been certified to use the wood lat
 he yet.\n\nThis class will demonstrate the basics of (safe) pen turning an
 d using the pen mandrel. This is just a demo\, and may not include any han
 ds on experience. Although this training is not required to use the pen ma
 ndrel\, the instructional class will definitely help if you've never used 
 one before.\n\nThis class is available to denhac members only\, and at no 
 additional charge.
CATEGORIES:Equipment Training,Members Only
LOCATION:denhac - Woodshop\, 700 Kalamath St.\, Denver\, CO\, 80204\, Unite
 d States
X-APPLE-STRUCTURED-LOCATION;VALUE=URI;X-ADDRESS=700 Kalamath St.\, Denver\,
  CO\, 80204\, United States;X-APPLE-RADIUS=100;X-TITLE=denhac - Woodshop:g
 eo:0,0
END:VEVENT
BEGIN:VTIMEZONE
TZID:America/Denver
X-LIC-LOCATION:America/Denver
BEGIN:DAYLIGHT
DTSTART:20250309T030000
TZOFFSETFROM:-0700
TZOFFSETTO:-0600
TZNAME:MDT
END:DAYLIGHT
END:VTIMEZONE
END:VCALENDAR