BEGIN:VCALENDAR
VERSION:2.0
PRODID:-//wp-events-plugin.com//7.2.3.1//EN
TZID:America/Denver
X-WR-TIMEZONE:America/Denver
BEGIN:VEVENT
UID:1036@denhac.org
DTSTART;TZID=America/Denver:20260422T190000
DTEND;TZID=America/Denver:20260422T213000
DTSTAMP:20260328T212639Z
URL:https://denhac.org/events/make-and-take-200-quilted-leaf-pot-holders
SUMMARY:Make and Take 200 - Quilted Leaf Pot Holders
DESCRIPTION:Discover the art of quilting with Logan! This make and take cla
 ss is the perfect entry point for anyone curious about how those beautiful
 \, stitched patterns come to life. You will learn the foundational "sandwi
 ch" technique\, layering fabric and batting\, to create a functional\, dec
 orative leaf-shaped pot holder.\nDuring the class\, we will cover the esse
 ntials of measuring for precision and how to guide your project through th
 e machine to create "quilted" textures. You’ll leave with a finished pro
 ject in hand and the skills to tackle larger quilts at home.\n\n\n 	Experi
 ence Level: Beginners are welcome\, though you should be comfortable opera
 ting a sewing machine and troubleshooting minor issues independently.\n 	S
 kills Needed: You should be able to follow measurement and cutting instruc
 tions with less oversight than a 100-level introductory course.\n
LOCATION:denhac - Textiles Area\, 700 Kalamath St.\, Denver\, CO\, 80204\, 
 United States
X-APPLE-STRUCTURED-LOCATION;VALUE=URI;X-ADDRESS=700 Kalamath St.\, Denver\,
  CO\, 80204\, United States;X-APPLE-RADIUS=100;X-TITLE=denhac - Textiles A
 rea:geo:0,0
END:VEVENT
BEGIN:VTIMEZONE
TZID:America/Denver
X-LIC-LOCATION:America/Denver
BEGIN:DAYLIGHT
DTSTART:20260308T030000
TZOFFSETFROM:-0700
TZOFFSETTO:-0600
TZNAME:MDT
END:DAYLIGHT
END:VTIMEZONE
END:VCALENDAR