BEGIN:VCALENDAR
VERSION:2.0
PRODID:-//wp-events-plugin.com//7.2.3.1//EN
TZID:America/Denver
X-WR-TIMEZONE:America/Denver
BEGIN:VEVENT
UID:306@denhac.org
DTSTART;TZID=America/Denver:20250325T173000
DTEND;TZID=America/Denver:20250325T193000
DTSTAMP:20250322T190835Z
URL:https://denhac.org/events/laser-cutter-authorization-class-18
SUMMARY:Laser Cutter Authorization Class
DESCRIPTION:PThe laser cutters emit a high power infrared beam of light\, r
 eflect it off the mirrors on the gantry of the machine\, and into your mat
 erial encased by a stream of high pressure air to both ignite and extingui
 sh a fire that precisely burns through material. These machines are perfec
 t for engraving images onto and cutting precise and accurate shapes from f
 lat sheets of material especially wood\, leather\, fabric\, paper\, acryli
 c\, and more.\n\nTo learn more about our Lasers (including a broader mater
 ials list) read the wiki.\n\nThis class is available to denhac members onl
 y\, and at no charge.
CATEGORIES:Equipment Training,Members Only
LOCATION:denhac - Laser Cutters\, 700 Kalamath St.\, Denver\, CO\, 80204\, 
 United States
X-APPLE-STRUCTURED-LOCATION;VALUE=URI;X-ADDRESS=700 Kalamath St.\, Denver\,
  CO\, 80204\, United States;X-APPLE-RADIUS=100;X-TITLE=denhac - Laser Cutt
 ers:geo:0,0
END:VEVENT
BEGIN:VTIMEZONE
TZID:America/Denver
X-LIC-LOCATION:America/Denver
BEGIN:DAYLIGHT
DTSTART:20250309T030000
TZOFFSETFROM:-0700
TZOFFSETTO:-0600
TZNAME:MDT
END:DAYLIGHT
END:VTIMEZONE
END:VCALENDAR