BEGIN:VCALENDAR
VERSION:2.0
PRODID:-//wp-events-plugin.com//7.2.3.1//EN
TZID:America/Denver
X-WR-TIMEZONE:America/Denver
BEGIN:VEVENT
UID:165@denhac.org
DTSTART;TZID=America/Denver:20241019T090000
DTEND;TZID=America/Denver:20241019T120000
DTSTAMP:20240930T175711Z
URL:https://denhac.org/events/introduction-to-micropython-part-2
SUMMARY:Introduction to MicroPython (Part 2)
DESCRIPTION:Learn to use MicroPython to control a Raspberry Pico microcontr
 oller. This is the second part of a two-part class meant to introduce micr
 ocontrollers to complete beginners in the field. If you already have some 
 experience with the Pico microcontroller you're welcome to attend\, but th
 e rest of the class will be picking up where they left off in part one.\n\
 nMicrocontrollers are probably the most straightforward platform for contr
 olling the real world with code. By using MicroPython you can manipulate s
 mall circuits connected to the device that can read sensors\, drive motors
 \, send data and requests over the internet\, and more.\n\nThis class is a
 vailable to denhac members only\, and at no additional charge.\n\nMake sur
 e to come prepared with a Raspberry Pico W (V1 or V2) and the associated p
 rogramming cable. All other hardware like resistors and LEDs should be ava
 ilable at denhac already.
CATEGORIES:Members Only,Workshop
LOCATION:denhac - Classroom\, 700 Kalamath St.\, Denver\, CO\, 80204\, Unit
 ed States
X-APPLE-STRUCTURED-LOCATION;VALUE=URI;X-ADDRESS=700 Kalamath St.\, Denver\,
  CO\, 80204\, United States;X-APPLE-RADIUS=100;X-TITLE=denhac - Classroom:
 geo:0,0
END:VEVENT
BEGIN:VTIMEZONE
TZID:America/Denver
X-LIC-LOCATION:America/Denver
BEGIN:DAYLIGHT
DTSTART:20240310T030000
TZOFFSETFROM:-0700
TZOFFSETTO:-0600
TZNAME:MDT
END:DAYLIGHT
END:VTIMEZONE
END:VCALENDAR