BEGIN:VCALENDAR
VERSION:2.0
PRODID:-//wp-events-plugin.com//7.2.3.1//EN
TZID:America/Denver
X-WR-TIMEZONE:America/Denver
BEGIN:VEVENT
UID:652@denhac.org
DTSTART;TZID=America/Denver:20251119T190000
DTEND;TZID=America/Denver:20251119T213000
DTSTAMP:20251030T230745Z
URL:https://denhac.org/events/intro-to-sewing-100-monster-pillows-with-lau
 ren
SUMMARY:Intro to Sewing 100 - Monster Pillows with Lauren
DESCRIPTION:Come to learn simple sewing skills\, make a seasonal item in cl
 ass to take home with you.\n\nSkills required: None\n\nSkills you’ll lea
 rn: Tracing\, cutting\, pinning\, sewing on machines\, stuffing\, and fini
 shing a project\, how to thread a sewing machine and change a bobbin\, att
 aching felt to felt\n\nInstructor: Lauren\n\n(and yes you get to make face
 s for your pillows!)\n\nRegistration for this class will open one week pri
 or to class.
CATEGORIES:Members Only
LOCATION:denhac - Textiles Area\, 700 Kalamath St.\, Denver\, CO\, 80204\, 
 United States
X-APPLE-STRUCTURED-LOCATION;VALUE=URI;X-ADDRESS=700 Kalamath St.\, Denver\,
  CO\, 80204\, United States;X-APPLE-RADIUS=100;X-TITLE=denhac - Textiles A
 rea:geo:0,0
END:VEVENT
BEGIN:VTIMEZONE
TZID:America/Denver
X-LIC-LOCATION:America/Denver
BEGIN:STANDARD
DTSTART:20251102T010000
TZOFFSETFROM:-0600
TZOFFSETTO:-0700
TZNAME:MST
END:STANDARD
END:VTIMEZONE
END:VCALENDAR