BEGIN:VCALENDAR
VERSION:2.0
PRODID:-//wp-events-plugin.com//7.2.3.1//EN
TZID:America/Denver
X-WR-TIMEZONE:America/Denver
BEGIN:VEVENT
UID:1034@denhac.org
DTSTART;TZID=America/Denver:20260420T183000
DTEND;TZID=America/Denver:20260420T203000
DTSTAMP:20260418T182316Z
URL:https://denhac.org/events/industrial-sewing-machine-authorization-4
SUMMARY:Industrial Sewing Machine Authorization
DESCRIPTION:It does exactly what it says on the tin! Join Danielle to unloc
 k the full potential of our heavy-duty equipment. If you’ve ever struggl
 ed with thick denim\, leather\, or multiple layers of canvas on a home mac
 hine\, this is the class that changes everything.\n\nWhat You’ll Master\
 nIndustrial machines are built for speed and strength. In this certificati
 on session\, you will learn:\n\n 	Machine Anatomy: Understanding the uniqu
 e motor and needle systems of our industrial fleet.\n 	Safe Operation: Mas
 tering the foot pedal (it’s faster than you think!) and knee-lift contro
 ls.\n 	Troubleshooting: How to thread\, tension\, and maintain these "work
 horse" machines for heavy-duty projects.\n\nClass Outcomes\nFull Authoriza
 tion: By the end of this session\, you will be officially authorized to us
 e both of our industrial sewing machines for your own projects.
LOCATION:denhac - Textiles Area\, 700 Kalamath St.\, Denver\, CO\, 80204\, 
 United States
X-APPLE-STRUCTURED-LOCATION;VALUE=URI;X-ADDRESS=700 Kalamath St.\, Denver\,
  CO\, 80204\, United States;X-APPLE-RADIUS=100;X-TITLE=denhac - Textiles A
 rea:geo:0,0
END:VEVENT
BEGIN:VTIMEZONE
TZID:America/Denver
X-LIC-LOCATION:America/Denver
BEGIN:DAYLIGHT
DTSTART:20260308T030000
TZOFFSETFROM:-0700
TZOFFSETTO:-0600
TZNAME:MDT
END:DAYLIGHT
END:VTIMEZONE
END:VCALENDAR