BEGIN:VCALENDAR
VERSION:2.0
PRODID:-//wp-events-plugin.com//7.2.3.1//EN
TZID:America/Denver
X-WR-TIMEZONE:America/Denver
BEGIN:VEVENT
UID:571@denhac.org
DTSTART;TZID=America/Denver:20250920T120000
DTEND;TZID=America/Denver:20250920T160000
DTSTAMP:20250927T023818Z
URL:https://denhac.org/events/haunted-house-prop-and-painting-party
SUMMARY:Haunted House Prop and Painting Party!
DESCRIPTION:Join the rest of the haunted house crew in preparing for the ev
 ent on October 3rd.\n\nWe need any and all prop makers to help us make the
  haunted house the best it can be!
CATEGORIES:Just for Fun,Members Only,Workshop
LOCATION:denhac - Garage Bay\, 700 Kalamath St\, Denver\, CO\, 80204\, Unit
 ed Kingdom
X-APPLE-STRUCTURED-LOCATION;VALUE=URI;X-ADDRESS=700 Kalamath St\, Denver\, 
 CO\, 80204\, United Kingdom;X-APPLE-RADIUS=100;X-TITLE=denhac - Garage Bay
 :geo:0,0
END:VEVENT
BEGIN:VTIMEZONE
TZID:America/Denver
X-LIC-LOCATION:America/Denver
BEGIN:DAYLIGHT
DTSTART:20250309T030000
TZOFFSETFROM:-0700
TZOFFSETTO:-0600
TZNAME:MDT
END:DAYLIGHT
END:VTIMEZONE
END:VCALENDAR