BEGIN:VCALENDAR
VERSION:2.0
PRODID:-//wp-events-plugin.com//7.2.3.1//EN
TZID:America/Denver
X-WR-TIMEZONE:America/Denver
BEGIN:VEVENT
UID:204@denhac.org
DTSTART;TZID=America/Denver:20241110T120000
DTEND;TZID=America/Denver:20241110T150000
DTSTAMP:20241105T200038Z
URL:https://denhac.org/events/general-wood-shop-authorization-class-9
SUMMARY:General Wood Shop Authorization Class
DESCRIPTION:Get trained and signed off to use the 4 major woodworking power
  tools at denhac. This training is mandatory for all denhac members before
  you're allowed to use these tools. Register for this training and comple
 te your homework before the class by reading the woodshop wiki page and
  all tool wiki pages linked below. This class takes ~3 hours depending on 
 number of attendees and experience. This class includes:\n\n 	Saw Stop tab
 le saw\n 	Powermatic jointer\n 	Dewalt planer\n 	Router table\n\nThis clas
 s is offered to denhac members only\, and at no additional charge. If you'
 re interested in becoming a denhac member\, come to an open house or conta
 ct us
CATEGORIES:Equipment Training,Members Only
LOCATION:denhac - Woodshop\, 700 Kalamath St.\, Denver\, CO\, 80204\, Unite
 d States
X-APPLE-STRUCTURED-LOCATION;VALUE=URI;X-ADDRESS=700 Kalamath St.\, Denver\,
  CO\, 80204\, United States;X-APPLE-RADIUS=100;X-TITLE=denhac - Woodshop:g
 eo:0,0
END:VEVENT
BEGIN:VTIMEZONE
TZID:America/Denver
X-LIC-LOCATION:America/Denver
BEGIN:STANDARD
DTSTART:20241103T010000
TZOFFSETFROM:-0600
TZOFFSETTO:-0700
TZNAME:MST
END:STANDARD
END:VTIMEZONE
END:VCALENDAR