BEGIN:VCALENDAR
VERSION:2.0
PRODID:-//wp-events-plugin.com//7.2.3.1//EN
TZID:America/Denver
X-WR-TIMEZONE:America/Denver
BEGIN:VEVENT
UID:141@denhac.org
DTSTART;TZID=America/Denver:20240908T130000
DTEND;TZID=America/Denver:20240908T150000
DTSTAMP:20240827T032821Z
URL:https://denhac.org/events/fdm-3d-printer-authorization-class-4
SUMMARY:FDM 3d Printer Authorization Class
DESCRIPTION:Learn to use the Prusas and get authorized to use them. This cl
 ass does not authorize users to use the Large Format 3d printers\, but thi
 s class is a prerequisite for the advanced workshop that will teach you ho
 w to use them.\n\nThis class is available at no charge to denhac members o
 nly.\n\nTo learn more about our 3d printers read the wiki.
CATEGORIES:Equipment Training,Members Only
LOCATION:denhac - 3D Printer Room\, 700 Kalamath St.\, Denver\, CO\, 80204\
 , United States
X-APPLE-STRUCTURED-LOCATION;VALUE=URI;X-ADDRESS=700 Kalamath St.\, Denver\,
  CO\, 80204\, United States;X-APPLE-RADIUS=100;X-TITLE=denhac - 3D Printer
  Room:geo:0,0
END:VEVENT
BEGIN:VTIMEZONE
TZID:America/Denver
X-LIC-LOCATION:America/Denver
BEGIN:DAYLIGHT
DTSTART:20240310T030000
TZOFFSETFROM:-0700
TZOFFSETTO:-0600
TZNAME:MDT
END:DAYLIGHT
END:VTIMEZONE
END:VCALENDAR