BEGIN:VCALENDAR
VERSION:2.0
PRODID:-//wp-events-plugin.com//7.2.3.1//EN
TZID:America/Denver
X-WR-TIMEZONE:America/Denver
BEGIN:VEVENT
UID:432@denhac.org
DTSTART;TZID=America/Denver:20250702T180000
DTEND;TZID=America/Denver:20250702T200000
DTSTAMP:20250627T003322Z
URL:https://denhac.org/events/fdm-3d-printer-authorization-class-31
SUMMARY:FDM 3d Printer Authorization Class
DESCRIPTION:Learn to use the Prusas (Our fleet of desktop FDM 3d printers) 
 and get authorized to use them. FDM printing uses a plastic filament fed i
 nto a heated nozzle like a hot glue gun to deposit plastic until your part
  is complete. These machines are great for rapid prototyping with PLA\, PE
 TG\, and TPU.\n\nThis class does not authorize users to use the Large Form
 at 3d printers\, but this class is a prerequisite for the advanced worksho
 p that will teach you how to use them.\n\nThis class is available to denha
 c members only\, and at no additional charge.\n\nTo learn more about our 3
 d printers read the wiki.
CATEGORIES:Equipment Training,Members Only
LOCATION:denhac - 3D Printer Room\, 700 Kalamath St.\, Denver\, CO\, 80204\
 , United States
X-APPLE-STRUCTURED-LOCATION;VALUE=URI;X-ADDRESS=700 Kalamath St.\, Denver\,
  CO\, 80204\, United States;X-APPLE-RADIUS=100;X-TITLE=denhac - 3D Printer
  Room:geo:0,0
END:VEVENT
BEGIN:VTIMEZONE
TZID:America/Denver
X-LIC-LOCATION:America/Denver
BEGIN:DAYLIGHT
DTSTART:20250309T030000
TZOFFSETFROM:-0700
TZOFFSETTO:-0600
TZNAME:MDT
END:DAYLIGHT
END:VTIMEZONE
END:VCALENDAR