BEGIN:VCALENDAR
VERSION:2.0
PRODID:-//wp-events-plugin.com//7.2.3.1//EN
TZID:America/Denver
X-WR-TIMEZONE:America/Denver
BEGIN:VEVENT
UID:1048@denhac.org
DTSTART;TZID=America/Denver:20260421T193000
DTEND;TZID=America/Denver:20260421T203000
DTSTAMP:20260419T190734Z
URL:https://denhac.org/events/denhac-storage-organization
SUMMARY:denhac Storage & Organization
DESCRIPTION:We are initiating a formal effort to improve our shared space! 
 We're focusing on organization\, floorplan flow\, and upgrading our member
  storage system.\nAs many of you may know\, we have some projects already 
 in motion\, including planned upgrades scheduled for April 25th. Our goal 
 for this meeting is to begin building out an actionable plan and budget fo
 r our new member storage.\nWith the next board budget proposal deadline on
  May 4th\, this is our window to solidify these plans into a concrete prop
 osal.\n\nAgenda\n\n 	Lava→Fish Shelf Project: Finalizing execution detai
 ls for the work currently in motion.\n 	Member Storage: Turning long-stand
 ing ideas into a formal plan for new shelving.\n 	Budgeting: Outlining cos
 ts to ensure we are ready for the May 4th board submission.\n 	Volunteer C
 oordination: Identifying project leads and establishing a build schedule.\
 n 	Future Planning: Brainstorm ideas for the next meeting (chairs\, tables
 \, drawers\, boxes\, layouts)\n\nWe'll have a Google Meet session open for
  remote attendance.\nOtherwise\, we want this to be a space-wide effort\, 
 so your input is vital even if you cannot attend. Please join the #help-st
 orage channel on Slack to stay in the loop\, view the meeting notes\, and 
 contribute to the build schedule as it develops.\nWe look forward to seein
 g you there and moving toward a more organized\, sustainable denhac.
CATEGORIES:Members Only
LOCATION:denhac - Classroom\, 700 Kalamath St.\, Denver\, CO\, 80204\, Unit
 ed States
X-APPLE-STRUCTURED-LOCATION;VALUE=URI;X-ADDRESS=700 Kalamath St.\, Denver\,
  CO\, 80204\, United States;X-APPLE-RADIUS=100;X-TITLE=denhac - Classroom:
 geo:0,0
END:VEVENT
BEGIN:VTIMEZONE
TZID:America/Denver
X-LIC-LOCATION:America/Denver
BEGIN:DAYLIGHT
DTSTART:20260308T030000
TZOFFSETFROM:-0700
TZOFFSETTO:-0600
TZNAME:MDT
END:DAYLIGHT
END:VTIMEZONE
END:VCALENDAR