BEGIN:VCALENDAR
VERSION:2.0
PRODID:-//wp-events-plugin.com//7.2.3.1//EN
TZID:America/Denver
X-WR-TIMEZONE:America/Denver
BEGIN:VEVENT
UID:34@denhac.org
DTSTART;TZID=America/Denver:20240601T104500
DTEND;TZID=America/Denver:20240601T124500
DTSTAMP:20240530T021145Z
URL:https://denhac.org/events/cnc-router-mill-training
SUMMARY:CNC Router/Mill Training
DESCRIPTION:Get authorized to use our Shapeoko 5 and Nomad CNC machines
CATEGORIES:Equipment Training,Members Only
LOCATION:denhac - CNC Fridge\, 700 Kalamath St.\, Denver\, CO\, 80204\, Uni
 ted States
X-APPLE-STRUCTURED-LOCATION;VALUE=URI;X-ADDRESS=700 Kalamath St.\, Denver\,
  CO\, 80204\, United States;X-APPLE-RADIUS=100;X-TITLE=denhac - CNC Fridge
 :geo:0,0
END:VEVENT
BEGIN:VTIMEZONE
TZID:America/Denver
X-LIC-LOCATION:America/Denver
BEGIN:DAYLIGHT
DTSTART:20240310T030000
TZOFFSETFROM:-0700
TZOFFSETTO:-0600
TZNAME:MDT
END:DAYLIGHT
END:VTIMEZONE
END:VCALENDAR