BEGIN:VCALENDAR
VERSION:2.0
PRODID:-//wp-events-plugin.com//7.2.3.1//EN
TZID:America/Denver
X-WR-TIMEZONE:America/Denver
BEGIN:VEVENT
UID:266@denhac.org
DTSTART;TZID=America/Denver:20250130T163000
DTEND;TZID=America/Denver:20250130T183000
DTSTAMP:20250128T202214Z
URL:https://denhac.org/events/cnc-router-authorization-class-16
SUMMARY:CNC Router Authorization Class
DESCRIPTION:Learn to use the CNC Routers and get authorized to use them. Th
 e CNC Routers are capable of machining almost any material because it uses
  a spinning end mill to selectively remove stock material until you're lef
 t with your final part. These machines are most commonly used on sheets of
  plywood\, hardwood\, polycarbonate\, acrylic\, and aluminum.\n\nThis clas
 s is available to denhac members only\, and at no additional charge.\n\nTo
  learn more about our CNC Machines read the wiki.\n\nHOMEWORK: On the wiki
  page is a Homework section\, you must watch the homework videos and famil
 iarize yourself with everything before showing up to class. Although you c
 an still take the class\, you will need to know how to do CAD and CAM usin
 g Fusion 360 or some other workflow before you'll have any files to run on
  these machines. If you've never used a CNC machine then please sign up fo
 r a CAD class or request one in the #compuer-aided-design channel before s
 igning up for this CNC authorization.
CATEGORIES:Equipment Training,Members Only
LOCATION:denhac - CNC Fridge\, 700 Kalamath St.\, Denver\, CO\, 80204\, Uni
 ted States
X-APPLE-STRUCTURED-LOCATION;VALUE=URI;X-ADDRESS=700 Kalamath St.\, Denver\,
  CO\, 80204\, United States;X-APPLE-RADIUS=100;X-TITLE=denhac - CNC Fridge
 :geo:0,0
END:VEVENT
BEGIN:VTIMEZONE
TZID:America/Denver
X-LIC-LOCATION:America/Denver
BEGIN:STANDARD
DTSTART:20241103T010000
TZOFFSETFROM:-0600
TZOFFSETTO:-0700
TZNAME:MST
END:STANDARD
END:VTIMEZONE
END:VCALENDAR