BEGIN:VCALENDAR
VERSION:2.0
PRODID:-//wp-events-plugin.com//7.2.3.1//EN
TZID:America/Denver
X-WR-TIMEZONE:America/Denver
BEGIN:VEVENT
UID:84@denhac.org
DTSTART;TZID=America/Denver:20240714T160000
DTEND;TZID=America/Denver:20240714T180000
DTSTAMP:20240712T014408Z
URL:https://denhac.org/events/cnc-machine-authorization-2024-07-14
SUMMARY:CNC Machine Authorization
DESCRIPTION:Learn the basics of CNC machining and get certified to use the 
 CNC machine.\n\nThis class is for members only. Please read the wiki for m
 ore details. Reading of the Wiki and watching the videos under the homewor
 k heading is a required prerequisite to the authorization class.\n\n&nbsp\
 ;
CATEGORIES:Equipment Training,Members Only
LOCATION:denhac - CNC Fridge\, 700 Kalamath St.\, Denver\, CO\, 80204\, Uni
 ted States
X-APPLE-STRUCTURED-LOCATION;VALUE=URI;X-ADDRESS=700 Kalamath St.\, Denver\,
  CO\, 80204\, United States;X-APPLE-RADIUS=100;X-TITLE=denhac - CNC Fridge
 :geo:0,0
END:VEVENT
BEGIN:VTIMEZONE
TZID:America/Denver
X-LIC-LOCATION:America/Denver
BEGIN:DAYLIGHT
DTSTART:20240310T030000
TZOFFSETFROM:-0700
TZOFFSETTO:-0600
TZNAME:MDT
END:DAYLIGHT
END:VTIMEZONE
END:VCALENDAR