BEGIN:VCALENDAR
VERSION:2.0
PRODID:-//wp-events-plugin.com//7.2.3.1//EN
TZID:America/Denver
X-WR-TIMEZONE:America/Denver
BEGIN:VEVENT
UID:633@denhac.org
DTSTART;TZID=America/Denver:20251119T190000
DTEND;TZID=America/Denver:20251119T210000
DTSTAMP:20251023T232329Z
URL:https://denhac.org/events/bowl-turning-demo-class-prior-wood-lathe-aut
 h-required-4
SUMMARY:Bowl Turning Demo Class (Prior Wood Lathe Auth Required)
DESCRIPTION:A wood lathe authorization is required for each attendee. Do no
 t sign up for this class if you haven't been certified to use the wood lat
 he yet.\n\nThis class will demonstrate the basics of (safe) bowl turning a
 nd using the chuck attachment in the headstock. This is just a demo\, and 
 may not include any hands on experience.\n\nThis class is available to den
 hac members only\, and at no additional charge.
CATEGORIES:Equipment Training,Members Only
LOCATION:denhac - Woodshop\, 700 Kalamath St.\, Denver\, CO\, 80204\, Unite
 d States
X-APPLE-STRUCTURED-LOCATION;VALUE=URI;X-ADDRESS=700 Kalamath St.\, Denver\,
  CO\, 80204\, United States;X-APPLE-RADIUS=100;X-TITLE=denhac - Woodshop:g
 eo:0,0
END:VEVENT
BEGIN:VTIMEZONE
TZID:America/Denver
X-LIC-LOCATION:America/Denver
BEGIN:STANDARD
DTSTART:20251102T010000
TZOFFSETFROM:-0600
TZOFFSETTO:-0700
TZNAME:MST
END:STANDARD
END:VTIMEZONE
END:VCALENDAR