BEGIN:VCALENDAR
VERSION:2.0
PRODID:-//wp-events-plugin.com//7.2.3.1//EN
TZID:America/Denver
X-WR-TIMEZONE:America/Denver
BEGIN:VEVENT
UID:948@denhac.org
DTSTART;TZID=America/Denver;VALUE=DATE:20260101
DTEND;TZID=America/Denver;VALUE=DATE:20260102
DTSTAMP:20260220T155236Z
URL:https://denhac.org/events/ai-computer-science-club
SUMMARY:AI &amp\; Computer Science Club
DESCRIPTION:\nThe Club Meets every 2nd and 4th Thursday of the month\n\n\nA
 I-CompSci Club Meeting\, 02/12/2026\, 6:00 PM\, 8:00 PM\, Classroom\nAI-Co
 mpSci Club Meeting\, 02/26/2026\, 6:00 PM\, 8:00 PM\, Classroom\nAI-CompSc
 i Club Meeting\, 03/12/2026\, 6:00 PM\, 8:00 PM\, Classroom\nAI-CompSci Cl
 ub Meeting\, 03/26/2026\, 6:00 PM\, 8:00 PM\, Classroom\nAI-CompSci Club M
 eeting\, 04/09/2026\, 6:00 PM\, 8:00 PM\, Classroom\nAI-CompSci Club Meeti
 ng\, 04/23/2026\, 6:00 PM\, 8:00 PM\, Classroom\nAI-CompSci Club Meeting\,
  05/14/2026\, 6:00 PM\, 8:00 PM\, Classroom\nAI-CompSci Club Meeting\, 05/
 28/2026\, 6:00 PM\, 8:00 PM\, Classroom\nAI-CompSci Club Meeting\, 06/11/2
 026\, 6:00 PM\, 8:00 PM\, Classroom\nAI-CompSci Club Meeting\, 06/25/2026\
 , 6:00 PM\, 8:00 PM\, Classroom\nAI-CompSci Club Meeting\, 07/09/2026\, 6:
 00 PM\, 8:00 PM\, Classroom\nAI-CompSci Club Meeting\, 07/23/2026\, 6:00 P
 M\, 8:00 PM\, Classroom\nAI-CompSci Club Meeting\, 08/13/2026\, 6:00 PM\, 
 8:00 PM\, Classroom\nAI-CompSci Club Meeting\, 08/27/2026\, 6:00 PM\, 8:00
  PM\, Classroom\nAI-CompSci Club Meeting\, 09/10/2026\, 6:00 PM\, 8:00 PM\
 , Classroom\nAI-CompSci Club Meeting\, 09/24/2026\, 6:00 PM\, 8:00 PM\, Cl
 assroom\nAI-CompSci Club Meeting\, 10/08/2026\, 6:00 PM\, 8:00 PM\, Classr
 oom\nAI-CompSci Club Meeting\, 10/22/2026\, 6:00 PM\, 8:00 PM\, Classroom\
 nAI-CompSci Club Meeting\, 11/12/2026\, 6:00 PM\, 8:00 PM\, Classroom\nAI-
 CompSci Club Meeting\, 11/TBD/2026\, 6:00 PM\, 8:00 PM\, (Thanksgiving)\nA
 I-CompSci Club Meeting\, 12/10/2026\, 6:00 PM\, 8:00 PM\, Classroom\nAI-Co
 mpSci Club Meeting\, 12/TBD/2026\, 6:00 PM\, 8:00 PM\, (Christmas Eve)\n\n
CATEGORIES:Public Event,Workshop
LOCATION:denhac - Classroom\, 700 Kalamath St.\, Denver\, CO\, 80204\, Unit
 ed States
X-APPLE-STRUCTURED-LOCATION;VALUE=URI;X-ADDRESS=700 Kalamath St.\, Denver\,
  CO\, 80204\, United States;X-APPLE-RADIUS=100;X-TITLE=denhac - Classroom:
 geo:0,0
END:VEVENT
BEGIN:VTIMEZONE
TZID:America/Denver
X-LIC-LOCATION:America/Denver
BEGIN:STANDARD
DTSTART:20251102T010000
TZOFFSETFROM:-0600
TZOFFSETTO:-0700
TZNAME:MST
END:STANDARD
END:VTIMEZONE
END:VCALENDAR